Package: epiregulon.extra Version: 1.0.0 Command: /home/biocbuild/R/R-beta-2024-04-15_r86425/bin/R CMD INSTALL epiregulon.extra StartedAt: 2024-05-08 21:00:39 -0000 (Wed, 08 May 2024) EndedAt: 2024-05-08 21:01:13 -0000 (Wed, 08 May 2024) EllapsedTime: 33.4 seconds RetCode: 0 Status: OK