Package: epiregulon.extra Version: 1.0.0 Command: /home/biocbuild/R/R-beta-2024-04-15_r86425/bin/R CMD check --install=check:epiregulon.extra.install-out.txt --library=/home/biocbuild/R/R-beta-2024-04-15_r86425/site-library --no-vignettes --timings epiregulon.extra_1.0.0.tar.gz StartedAt: 2024-05-09 07:11:32 -0000 (Thu, 09 May 2024) EndedAt: 2024-05-09 07:17:30 -0000 (Thu, 09 May 2024) EllapsedTime: 357.6 seconds RetCode: 0 Status: OK CheckDir: epiregulon.extra.Rcheck Warnings: 0