Package: epiregulon.extra Version: 1.0.0 Command: /Library/Frameworks/R.framework/Resources/bin/R CMD build --keep-empty-dirs --no-resave-data epiregulon.extra StartedAt: 2024-06-09 21:16:13 -0400 (Sun, 09 Jun 2024) EndedAt: 2024-06-09 21:21:39 -0400 (Sun, 09 Jun 2024) EllapsedTime: 325.5 seconds RetCode: 0 Status: OK PackageFile: epiregulon.extra_1.0.0.tar.gz PackageFileSize: 3.626 MiB