Package: epiregulon.extra Version: 1.0.1 Command: /Library/Frameworks/R.framework/Resources/bin/R CMD build --keep-empty-dirs --no-resave-data epiregulon.extra StartedAt: 2024-10-17 00:08:34 -0400 (Thu, 17 Oct 2024) EndedAt: 2024-10-17 00:12:07 -0400 (Thu, 17 Oct 2024) EllapsedTime: 213.5 seconds RetCode: 0 Status: OK PackageFile: epiregulon.extra_1.0.1.tar.gz PackageFileSize: 3.613 MiB