Package: epiregulon.extra Version: 1.0.1 Command: rm -rf epiregulon.extra.buildbin-libdir && mkdir epiregulon.extra.buildbin-libdir && /Users/biocbuild/BBS/utils/build-universal.sh epiregulon.extra_1.0.1.tar.gz /Library/Frameworks/R.framework/Resources/bin/R epiregulon.extra.buildbin-libdir StartedAt: 2024-10-18 18:23:17 -0400 (Fri, 18 Oct 2024) EndedAt: 2024-10-18 18:23:56 -0400 (Fri, 18 Oct 2024) EllapsedTime: 38.9 seconds RetCode: 0 Status: OK PackageFile: epiregulon.extra_1.0.1.tgz PackageFileSize: 3.657 MiB