Package: epimutacions Version: 1.8.0 Command: chmod a+r epimutacions -R && E:\biocbuild\bbs-3.19-bioc\R\bin\R.exe CMD build --keep-empty-dirs --no-resave-data epimutacions StartedAt: 2024-10-16 18:55:47 -0400 (Wed, 16 Oct 2024) EndedAt: 2024-10-16 19:00:39 -0400 (Wed, 16 Oct 2024) EllapsedTime: 291.6 seconds RetCode: 0 Status: OK PackageFile: epimutacions_1.8.0.tar.gz PackageFileSize: 1.622 MiB