Package: epimutacions Version: 1.8.0 Command: rm -rf epimutacions.buildbin-libdir && mkdir epimutacions.buildbin-libdir && E:\biocbuild\bbs-3.19-bioc\R\bin\R.exe CMD INSTALL --build --library=epimutacions.buildbin-libdir epimutacions_1.8.0.tar.gz StartedAt: 2024-10-17 07:45:31 -0400 (Thu, 17 Oct 2024) EndedAt: 2024-10-17 07:46:49 -0400 (Thu, 17 Oct 2024) EllapsedTime: 78.5 seconds RetCode: 0 Status: OK PackageFile: epimutacions_1.8.0.zip PackageFileSize: 1.589 MiB