Package: epimutacions Version: 1.8.0 Command: /home/biocbuild/bbs-3.19-bioc/R/bin/R CMD INSTALL epimutacions StartedAt: 2024-10-16 16:43:10 -0400 (Wed, 16 Oct 2024) EndedAt: 2024-10-16 16:43:57 -0400 (Wed, 16 Oct 2024) EllapsedTime: 46.9 seconds RetCode: 0 Status: OK