Package: epimutacions Version: 1.8.0 Command: /home/biocbuild/bbs-3.19-bioc/R/bin/R CMD check --install=check:epimutacions.install-out.txt --library=/home/biocbuild/bbs-3.19-bioc/R/site-library --timings epimutacions_1.8.0.tar.gz StartedAt: 2024-10-17 00:08:55 -0400 (Thu, 17 Oct 2024) EndedAt: 2024-10-17 00:18:59 -0400 (Thu, 17 Oct 2024) EllapsedTime: 604.0 seconds RetCode: 0 Status: OK CheckDir: epimutacions.Rcheck Warnings: 0