Package: epimutacions Version: 1.8.0 Command: /home/biocbuild/bbs-3.19-bioc/R/bin/R CMD build --keep-empty-dirs --no-resave-data epimutacions StartedAt: 2024-10-16 18:22:54 -0400 (Wed, 16 Oct 2024) EndedAt: 2024-10-16 18:25:55 -0400 (Wed, 16 Oct 2024) EllapsedTime: 180.4 seconds RetCode: 0 Status: OK PackageFile: epimutacions_1.8.0.tar.gz PackageFileSize: 1.707 MiB