Package: epigraHMM Version: 1.12.0 Command: chmod a+r epigraHMM -R && E:\biocbuild\bbs-3.19-bioc\R\bin\R.exe CMD build --keep-empty-dirs --no-resave-data epigraHMM StartedAt: 2024-10-16 18:55:14 -0400 (Wed, 16 Oct 2024) EndedAt: 2024-10-16 19:22:29 -0400 (Wed, 16 Oct 2024) EllapsedTime: 1635.0 seconds RetCode: 0 Status: OK PackageFile: epigraHMM_1.12.0.tar.gz PackageFileSize: 493.1 KiB