Package: epigraHMM Version: 1.12.0 Command: rm -rf epigraHMM.buildbin-libdir && mkdir epigraHMM.buildbin-libdir && E:\biocbuild\bbs-3.19-bioc\R\bin\R.exe CMD INSTALL --build --library=epigraHMM.buildbin-libdir epigraHMM_1.12.0.tar.gz StartedAt: 2024-10-17 07:45:15 -0400 (Thu, 17 Oct 2024) EndedAt: 2024-10-17 07:47:51 -0400 (Thu, 17 Oct 2024) EllapsedTime: 155.5 seconds RetCode: 0 Status: OK PackageFile: epigraHMM_1.12.0.zip PackageFileSize: 2.186 MiB