Package: epigraHMM Version: 1.12.0 Command: /home/biocbuild/bbs-3.19-bioc/R/bin/R CMD INSTALL epigraHMM StartedAt: 2024-10-16 16:45:15 -0400 (Wed, 16 Oct 2024) EndedAt: 2024-10-16 16:47:13 -0400 (Wed, 16 Oct 2024) EllapsedTime: 118.2 seconds RetCode: 0 Status: OK