Package: epigraHMM Version: 1.12.0 Command: /home/biocbuild/bbs-3.19-bioc/R/bin/R CMD build --keep-empty-dirs --no-resave-data epigraHMM StartedAt: 2024-10-16 18:22:22 -0400 (Wed, 16 Oct 2024) EndedAt: 2024-10-16 18:31:21 -0400 (Wed, 16 Oct 2024) EllapsedTime: 539.2 seconds RetCode: 0 Status: OK PackageFile: epigraHMM_1.12.0.tar.gz PackageFileSize: 688.6 KiB