Package: epigraHMM Version: 1.12.0 Command: /Library/Frameworks/R.framework/Resources/bin/R CMD INSTALL epigraHMM StartedAt: 2024-10-16 18:54:15 -0400 (Wed, 16 Oct 2024) EndedAt: 2024-10-16 18:56:17 -0400 (Wed, 16 Oct 2024) EllapsedTime: 121.6 seconds RetCode: 0 Status: OK