Package: epigraHMM Version: 1.12.0 Command: /Library/Frameworks/R.framework/Resources/bin/R CMD check --install=check:epigraHMM.install-out.txt --library=/Library/Frameworks/R.framework/Resources/library --no-vignettes --timings epigraHMM_1.12.0.tar.gz StartedAt: 2024-10-17 20:54:18 -0400 (Thu, 17 Oct 2024) EndedAt: 2024-10-17 21:02:10 -0400 (Thu, 17 Oct 2024) EllapsedTime: 472.2 seconds RetCode: 0 Status: WARNINGS CheckDir: epigraHMM.Rcheck Warnings: 1