Package: epigraHMM Version: 1.12.0 Command: rm -rf epigraHMM.buildbin-libdir && mkdir epigraHMM.buildbin-libdir && /Users/biocbuild/BBS/utils/build-universal.sh epigraHMM_1.12.0.tar.gz /Library/Frameworks/R.framework/Resources/bin/R epigraHMM.buildbin-libdir StartedAt: 2024-10-18 18:22:04 -0400 (Fri, 18 Oct 2024) EndedAt: 2024-10-18 18:24:31 -0400 (Fri, 18 Oct 2024) EllapsedTime: 147.4 seconds RetCode: 0 Status: OK PackageFile: epigraHMM_1.12.0.tgz PackageFileSize: 2.013 MiB