Package: epigenomix Version: 1.44.0 Command: E:\biocbuild\bbs-3.19-bioc\R\bin\R.exe CMD check --no-multiarch --install=check:epigenomix.install-out.txt --library=E:\biocbuild\bbs-3.19-bioc\R\library --no-vignettes --timings epigenomix_1.44.0.tar.gz StartedAt: 2024-10-17 01:13:43 -0400 (Thu, 17 Oct 2024) EndedAt: 2024-10-17 01:19:01 -0400 (Thu, 17 Oct 2024) EllapsedTime: 318.5 seconds RetCode: 0 Status: OK CheckDir: epigenomix.Rcheck Warnings: 0