Package: epigenomix Version: 1.44.0 Command: chmod a+r epigenomix -R && F:\biocbuild\bbs-3.19-bioc\R\bin\R.exe CMD build --keep-empty-dirs --no-resave-data epigenomix StartedAt: 2024-06-26 18:38:00 -0400 (Wed, 26 Jun 2024) EndedAt: 2024-06-26 18:39:29 -0400 (Wed, 26 Jun 2024) EllapsedTime: 88.8 seconds RetCode: 0 Status: OK PackageFile: epigenomix_1.44.0.tar.gz PackageFileSize: 427.9 KiB