Package: epigenomix Version: 1.44.0 Command: rm -rf epigenomix.buildbin-libdir && mkdir epigenomix.buildbin-libdir && F:\biocbuild\bbs-3.19-bioc\R\bin\R.exe CMD INSTALL --build --library=epigenomix.buildbin-libdir epigenomix_1.44.0.tar.gz StartedAt: 2024-06-27 08:10:27 -0400 (Thu, 27 Jun 2024) EndedAt: 2024-06-27 08:11:25 -0400 (Thu, 27 Jun 2024) EllapsedTime: 57.8 seconds RetCode: 0 Status: OK PackageFile: epigenomix_1.44.0.zip PackageFileSize: 966.8 KiB