Package: epigenomix Version: 1.44.0 Command: /home/biocbuild/bbs-3.19-bioc/R/bin/R CMD INSTALL epigenomix StartedAt: 2024-10-16 16:28:32 -0400 (Wed, 16 Oct 2024) EndedAt: 2024-10-16 16:29:09 -0400 (Wed, 16 Oct 2024) EllapsedTime: 36.9 seconds RetCode: 0 Status: OK