Package: epigenomix Version: 1.44.0 Command: /home/biocbuild/bbs-3.19-bioc/R/bin/R CMD build --keep-empty-dirs --no-resave-data epigenomix StartedAt: 2024-10-16 18:22:20 -0400 (Wed, 16 Oct 2024) EndedAt: 2024-10-16 18:23:34 -0400 (Wed, 16 Oct 2024) EllapsedTime: 74.1 seconds RetCode: 0 Status: OK PackageFile: epigenomix_1.44.0.tar.gz PackageFileSize: 426.6 KiB