Package: epigenomix Version: 1.44.0 Command: /Library/Frameworks/R.framework/Resources/bin/R CMD check --install=check:epigenomix.install-out.txt --library=/Library/Frameworks/R.framework/Resources/library --no-vignettes --timings epigenomix_1.44.0.tar.gz StartedAt: 2024-10-17 04:51:49 -0400 (Thu, 17 Oct 2024) EndedAt: 2024-10-17 05:03:56 -0400 (Thu, 17 Oct 2024) EllapsedTime: 726.8 seconds RetCode: 0 Status: OK CheckDir: epigenomix.Rcheck Warnings: 0