Package: epigenomix Version: 1.44.0 Command: /Library/Frameworks/R.framework/Resources/bin/R CMD build --keep-empty-dirs --no-resave-data epigenomix StartedAt: 2024-10-16 19:00:17 -0400 (Wed, 16 Oct 2024) EndedAt: 2024-10-16 19:04:32 -0400 (Wed, 16 Oct 2024) EllapsedTime: 255.6 seconds RetCode: 0 Status: OK PackageFile: epigenomix_1.44.0.tar.gz PackageFileSize: 426.5 KiB