Package: epigenomix Version: 1.44.0 Command: /Library/Frameworks/R.framework/Resources/bin/R CMD check --install=check:epigenomix.install-out.txt --library=/Library/Frameworks/R.framework/Resources/library --no-vignettes --timings epigenomix_1.44.0.tar.gz StartedAt: 2024-06-09 20:12:38 -0400 (Sun, 09 Jun 2024) EndedAt: 2024-06-09 20:17:39 -0400 (Sun, 09 Jun 2024) EllapsedTime: 301.1 seconds RetCode: 0 Status: OK CheckDir: epigenomix.Rcheck Warnings: 0