Package: epigenomix Version: 1.44.0 Command: rm -rf epigenomix.buildbin-libdir && mkdir epigenomix.buildbin-libdir && /Users/biocbuild/BBS/utils/build-universal.sh epigenomix_1.44.0.tar.gz /Library/Frameworks/R.framework/Resources/bin/R epigenomix.buildbin-libdir StartedAt: 2024-06-10 00:17:01 -0400 (Mon, 10 Jun 2024) EndedAt: 2024-06-10 00:17:54 -0400 (Mon, 10 Jun 2024) EllapsedTime: 52.9 seconds RetCode: 0 Status: OK PackageFile: epigenomix_1.44.0.tgz PackageFileSize: 960.8 KiB