Package: epigenomix Version: 1.44.0 Command: /home/biocbuild/R/R-beta-2024-04-15_r86425/bin/R CMD check --install=check:epigenomix.install-out.txt --library=/home/biocbuild/R/R-beta-2024-04-15_r86425/site-library --no-vignettes --timings epigenomix_1.44.0.tar.gz StartedAt: 2024-05-09 07:09:25 -0000 (Thu, 09 May 2024) EndedAt: 2024-05-09 07:15:51 -0000 (Thu, 09 May 2024) EllapsedTime: 386.7 seconds RetCode: 0 Status: OK CheckDir: epigenomix.Rcheck Warnings: 0