Package: epigenomix Version: 1.44.0 Command: /Library/Frameworks/R.framework/Resources/bin/R CMD INSTALL epigenomix StartedAt: 2024-10-16 17:52:06 -0400 (Wed, 16 Oct 2024) EndedAt: 2024-10-16 17:52:50 -0400 (Wed, 16 Oct 2024) EllapsedTime: 44.3 seconds RetCode: 0 Status: OK