Package: epigenomix Version: 1.44.0 Command: /Library/Frameworks/R.framework/Resources/bin/R CMD build --keep-empty-dirs --no-resave-data epigenomix StartedAt: 2024-10-17 00:03:06 -0400 (Thu, 17 Oct 2024) EndedAt: 2024-10-17 00:04:37 -0400 (Thu, 17 Oct 2024) EllapsedTime: 91.5 seconds RetCode: 0 Status: OK PackageFile: epigenomix_1.44.0.tar.gz PackageFileSize: 426.5 KiB