Package: epidecodeR Version: 1.12.0 Command: chmod a+r epidecodeR -R && E:\biocbuild\bbs-3.19-bioc\R\bin\R.exe CMD build --keep-empty-dirs --no-resave-data epidecodeR StartedAt: 2024-10-16 18:54:33 -0400 (Wed, 16 Oct 2024) EndedAt: 2024-10-16 18:57:03 -0400 (Wed, 16 Oct 2024) EllapsedTime: 150.5 seconds RetCode: 0 Status: OK PackageFile: epidecodeR_1.12.0.tar.gz PackageFileSize: 1.707 MiB