Package: epidecodeR Version: 1.12.0 Command: /Library/Frameworks/R.framework/Resources/bin/R CMD check --install=check:epidecodeR.install-out.txt --library=/Library/Frameworks/R.framework/Resources/library --no-vignettes --timings epidecodeR_1.12.0.tar.gz StartedAt: 2024-06-10 14:51:51 -0400 (Mon, 10 Jun 2024) EndedAt: 2024-06-10 15:00:30 -0400 (Mon, 10 Jun 2024) EllapsedTime: 518.8 seconds RetCode: 0 Status: OK CheckDir: epidecodeR.Rcheck Warnings: 0