Package: epidecodeR Version: 1.12.0 Command: rm -rf epidecodeR.buildbin-libdir && mkdir epidecodeR.buildbin-libdir && /Users/biocbuild/BBS/utils/build-universal.sh epidecodeR_1.12.0.tar.gz /Library/Frameworks/R.framework/Resources/bin/R epidecodeR.buildbin-libdir StartedAt: 2024-10-18 18:21:38 -0400 (Fri, 18 Oct 2024) EndedAt: 2024-10-18 18:22:23 -0400 (Fri, 18 Oct 2024) EllapsedTime: 45.3 seconds RetCode: 0 Status: OK PackageFile: epidecodeR_1.12.0.tgz PackageFileSize: 1.95 MiB