Package: epialleleR Version: 1.12.0 Command: chmod a+r epialleleR -R && E:\biocbuild\bbs-3.19-bioc\R\bin\R.exe CMD build --keep-empty-dirs --no-resave-data epialleleR StartedAt: 2024-10-16 18:53:04 -0400 (Wed, 16 Oct 2024) EndedAt: 2024-10-16 19:00:53 -0400 (Wed, 16 Oct 2024) EllapsedTime: 469.2 seconds RetCode: 0 Status: OK PackageFile: epialleleR_1.12.0.tar.gz PackageFileSize: 2.275 MiB