Package: epialleleR Version: 1.12.0 Command: rm -rf epialleleR.buildbin-libdir && mkdir epialleleR.buildbin-libdir && E:\biocbuild\bbs-3.19-bioc\R\bin\R.exe CMD INSTALL --build --library=epialleleR.buildbin-libdir epialleleR_1.12.0.tar.gz StartedAt: 2024-10-17 07:45:06 -0400 (Thu, 17 Oct 2024) EndedAt: 2024-10-17 07:47:17 -0400 (Thu, 17 Oct 2024) EllapsedTime: 131.0 seconds RetCode: 0 Status: OK PackageFile: epialleleR_1.12.0.zip PackageFileSize: 7.151 MiB