Package: epialleleR Version: 1.12.0 Command: chmod a+r epialleleR -R && F:\biocbuild\bbs-3.19-bioc\R\bin\R.exe CMD build --keep-empty-dirs --no-resave-data epialleleR StartedAt: 2024-06-26 18:36:30 -0400 (Wed, 26 Jun 2024) EndedAt: 2024-06-26 18:45:47 -0400 (Wed, 26 Jun 2024) EllapsedTime: 556.9 seconds RetCode: 0 Status: OK PackageFile: epialleleR_1.12.0.tar.gz PackageFileSize: 2.277 MiB