Package: epialleleR Version: 1.12.0 Command: /home/biocbuild/bbs-3.19-bioc/R/bin/R CMD INSTALL epialleleR StartedAt: 2024-10-16 16:08:46 -0400 (Wed, 16 Oct 2024) EndedAt: 2024-10-16 16:10:16 -0400 (Wed, 16 Oct 2024) EllapsedTime: 90.0 seconds RetCode: 0 Status: OK