Package: epialleleR Version: 1.12.0 Command: /home/biocbuild/bbs-3.19-bioc/R/bin/R CMD build --keep-empty-dirs --no-resave-data epialleleR StartedAt: 2024-10-16 18:21:55 -0400 (Wed, 16 Oct 2024) EndedAt: 2024-10-16 18:23:59 -0400 (Wed, 16 Oct 2024) EllapsedTime: 124.3 seconds RetCode: 0 Status: OK PackageFile: epialleleR_1.12.0.tar.gz PackageFileSize: 3.279 MiB