Package: epialleleR Version: 1.12.0 Command: /Library/Frameworks/R.framework/Resources/bin/R CMD build --keep-empty-dirs --no-resave-data epialleleR StartedAt: 2024-10-16 18:59:09 -0400 (Wed, 16 Oct 2024) EndedAt: 2024-10-16 19:05:04 -0400 (Wed, 16 Oct 2024) EllapsedTime: 355.0 seconds RetCode: 0 Status: OK PackageFile: epialleleR_1.12.0.tar.gz PackageFileSize: 3.869 MiB