Package: epialleleR Version: 1.12.0 Command: /Library/Frameworks/R.framework/Resources/bin/R CMD INSTALL epialleleR StartedAt: 2024-10-16 16:38:52 -0400 (Wed, 16 Oct 2024) EndedAt: 2024-10-16 16:40:28 -0400 (Wed, 16 Oct 2024) EllapsedTime: 96.3 seconds RetCode: 0 Status: OK