Package: epialleleR Version: 1.12.0 Command: /Library/Frameworks/R.framework/Resources/bin/R CMD build --keep-empty-dirs --no-resave-data epialleleR StartedAt: 2024-10-17 00:01:06 -0400 (Thu, 17 Oct 2024) EndedAt: 2024-10-17 00:03:25 -0400 (Thu, 17 Oct 2024) EllapsedTime: 138.9 seconds RetCode: 0 Status: OK PackageFile: epialleleR_1.12.0.tar.gz PackageFileSize: 3.875 MiB