Package: epiNEM Version: 1.28.0 Command: chmod a+r epiNEM -R && E:\biocbuild\bbs-3.19-bioc\R\bin\R.exe CMD build --keep-empty-dirs --no-resave-data epiNEM StartedAt: 2024-10-16 18:56:43 -0400 (Wed, 16 Oct 2024) EndedAt: 2024-10-16 19:01:12 -0400 (Wed, 16 Oct 2024) EllapsedTime: 268.6 seconds RetCode: 0 Status: OK PackageFile: epiNEM_1.28.0.tar.gz PackageFileSize: 893.3 KiB