Package: epiNEM Version: 1.28.0 Command: rm -rf epiNEM.buildbin-libdir && mkdir epiNEM.buildbin-libdir && /Users/biocbuild/BBS/utils/build-universal.sh epiNEM_1.28.0.tar.gz /Library/Frameworks/R.framework/Resources/bin/R epiNEM.buildbin-libdir StartedAt: 2024-10-17 16:06:25 -0400 (Thu, 17 Oct 2024) EndedAt: 2024-10-17 16:07:10 -0400 (Thu, 17 Oct 2024) EllapsedTime: 44.8 seconds RetCode: 0 Status: OK PackageFile: epiNEM_1.28.0.tgz PackageFileSize: 2.603 MiB