Package: epiNEM Version: 1.28.0 Command: /Library/Frameworks/R.framework/Resources/bin/R CMD INSTALL epiNEM StartedAt: 2024-06-09 15:38:44 -0400 (Sun, 09 Jun 2024) EndedAt: 2024-06-09 15:39:08 -0400 (Sun, 09 Jun 2024) EllapsedTime: 23.6 seconds RetCode: 0 Status: OK