Package: epiNEM Version: 1.28.0 Command: /Library/Frameworks/R.framework/Resources/bin/R CMD check --install=check:epiNEM.install-out.txt --library=/Library/Frameworks/R.framework/Resources/library --no-vignettes --timings epiNEM_1.28.0.tar.gz StartedAt: 2024-06-10 15:00:30 -0400 (Mon, 10 Jun 2024) EndedAt: 2024-06-10 15:05:19 -0400 (Mon, 10 Jun 2024) EllapsedTime: 288.5 seconds RetCode: 0 Status: OK CheckDir: epiNEM.Rcheck Warnings: 0