Package: epiNEM Version: 1.28.0 Command: /Library/Frameworks/R.framework/Resources/bin/R CMD build --keep-empty-dirs --no-resave-data epiNEM StartedAt: 2024-10-17 00:04:37 -0400 (Thu, 17 Oct 2024) EndedAt: 2024-10-17 00:05:40 -0400 (Thu, 17 Oct 2024) EllapsedTime: 62.5 seconds RetCode: 0 Status: OK PackageFile: epiNEM_1.28.0.tar.gz PackageFileSize: 2.402 MiB