Package: ensembldb Version: 2.28.1 Command: E:\biocbuild\bbs-3.19-bioc\R\bin\R.exe CMD INSTALL ensembldb StartedAt: 2024-10-16 16:28:55 -0400 (Wed, 16 Oct 2024) EndedAt: 2024-10-16 16:30:24 -0400 (Wed, 16 Oct 2024) EllapsedTime: 88.8 seconds RetCode: 0 Status: OK