Package: enrichplot Version: 1.24.4 Command: E:\biocbuild\bbs-3.19-bioc\R\bin\R.exe CMD INSTALL enrichplot StartedAt: 2024-10-16 16:56:54 -0400 (Wed, 16 Oct 2024) EndedAt: 2024-10-16 16:57:37 -0400 (Wed, 16 Oct 2024) EllapsedTime: 42.8 seconds RetCode: 0 Status: OK