Package: enrichplot Version: 1.24.4 Command: chmod a+r enrichplot -R && E:\biocbuild\bbs-3.19-bioc\R\bin\R.exe CMD build --keep-empty-dirs --no-resave-data enrichplot StartedAt: 2024-10-16 18:52:24 -0400 (Wed, 16 Oct 2024) EndedAt: 2024-10-16 18:53:03 -0400 (Wed, 16 Oct 2024) EllapsedTime: 38.1 seconds RetCode: 0 Status: OK PackageFile: enrichplot_1.24.4.tar.gz PackageFileSize: 107.1 KiB