Package: enrichplot Version: 1.24.4 Command: rm -rf enrichplot.buildbin-libdir && mkdir enrichplot.buildbin-libdir && E:\biocbuild\bbs-3.19-bioc\R\bin\R.exe CMD INSTALL --build --library=enrichplot.buildbin-libdir enrichplot_1.24.4.tar.gz StartedAt: 2024-10-17 07:44:58 -0400 (Thu, 17 Oct 2024) EndedAt: 2024-10-17 07:45:55 -0400 (Thu, 17 Oct 2024) EllapsedTime: 56.6 seconds RetCode: 0 Status: OK PackageFile: enrichplot_1.24.4.zip PackageFileSize: 347.2 KiB