Package: enrichplot Version: 1.24.4 Command: /home/biocbuild/bbs-3.19-bioc/R/bin/R CMD INSTALL enrichplot StartedAt: 2024-10-16 16:28:34 -0400 (Wed, 16 Oct 2024) EndedAt: 2024-10-16 16:28:58 -0400 (Wed, 16 Oct 2024) EllapsedTime: 23.9 seconds RetCode: 0 Status: OK